BEGIN:VCALENDAR
VERSION:2.0
METHOD:PUBLISH
PRODID:-//imacoda.com//SPD-Web-O-Mat//EN
CALSCALE:GREGORIAN
BEGIN:VTIMEZONE
TZID:Europe/Berlin
BEGIN:DAYLIGHT
TZOFFSETFROM:+0100
RRULE:FREQ=YEARLY;BYMONTH=3;BYDAY=-1SU
DTSTART:19810329T020000
TZNAME:MESZ
TZOFFSETTO:+0200
END:DAYLIGHT
BEGIN:STANDARD
TZOFFSETFROM:+0200
RRULE:FREQ=YEARLY;BYMONTH=10;BYDAY=-1SU
DTSTART:19961027T030000
TZNAME:MEZ
TZOFFSETTO:+0100
END:STANDARD
END:VTIMEZONE
BEGIN:VEVENT
UID:20200128T084244Z-00000513575-LULU@www.bayernspd.de
CREATED:20200128T084244Z
LAST-MODIFIED:20200128T084244Z
DTSTAMP:20200128T084244Z
TRANSP:TRANSPARENT
DTSTART;TZID=Europe/Berlin:20200214T140000
DTEND;TZID=Europe/Berlin:20200214T160000
SUMMARY:Infostand mit Valentins-Überraschung
LOCATION:Edeka Stegmann
DESCRIPTION:Termin im Web (SPD Kissing):\nhttps://spd-kissing.de/termine
 /?id=513575
END:VEVENT
END:VCALENDAR
